BEGIN:VCALENDAR
VERSION:2.0
PRODID:-//National Defence College Nigeria - ECPv5.1.4//NONSGML v1.0//EN
CALSCALE:GREGORIAN
METHOD:PUBLISH
X-WR-CALNAME:National Defence College Nigeria
X-ORIGINAL-URL:https://ndc.gov.ng
X-WR-CALDESC:Events for National Defence College Nigeria
BEGIN:VTIMEZONE
TZID:UTC
BEGIN:STANDARD
TZOFFSETFROM:+0000
TZOFFSETTO:+0000
TZNAME:UTC
DTSTART:20230101T000000
END:STANDARD
END:VTIMEZONE
BEGIN:VEVENT
DTSTART;TZID=UTC:20230321T090000
DTEND;TZID=UTC:20230321T150000
DTSTAMP:20260424T183739
CREATED:20230317T105416Z
LAST-MODIFIED:20230317T110420Z
UID:10912-1679389200-1679410800@ndc.gov.ng
SUMMARY:NDC to Hold a Seminar Themed "The Future of Global Peace Support Operations"
DESCRIPTION:NDC to Hold a Seminar Themed “The Future of Global Peace Support Operations” \nThe National Defence College Module 8 (EX-Carana) is a scenario-based exercise intended to review the AU mission planning process at the strategic level and introduce Participants to the integrated mission planning process. It is against this background that a seminar on Future of Global Peace Support Operations (PSOs) will be undertaken\, in order to provide a platform that will enable the participants come up with measures and strategies that will improve Global and Regional PSOs. \nThe UN General Assembly notes that development in PSO has declined in about 10 countries globally which calls for alarm. Hence\, the seminar is borne out from the emergence of burning contemporary issues which poses limitations on the operations of Peacekeeping and the uncertainty of the safety of peacekeepers alongside the attainment of its objectives. To this end\, there is need to revisit the strategies and the need for urgent intervention. \nThe Action for Peace (A4P) initiative which was launched in 2018 focused on strengthening the peacekeeping of today and remains a central framework for peacekeeping as well as reform. As the highest military institution in Nigeria and a Training Centre of Excellence for ECOWAS\, NDC position on the Future of PSO is projected through this High-level Seminar. \n
URL:https://ndc.gov.ng/event/ndc-to-hold-a-seminar-themed-the-future-of-global-peace-support-operations/
END:VEVENT
END:VCALENDAR